BEGIN:VCALENDAR
PRODID:-//hacksw/handcal//NONSGML v1.0//EN
VERSION:2.0
CALSCALE:GREGORIAN
METHOD:PUBLISH
X-WR-CALNAME:Barcelona Cassandra Users - Let's watch #CassandraSummit live broadcast together
X-WR-TIMEZONE:Europe/Madrid
X-WR-CALDESC:Barcelona Cassandra Users - Let's watch #CassandraSummit live broadcast together
BEGIN:VEVENT
DTSTART:20140911T180000Z
DTEND:20140911T190000Z
DTSTAMP:20140911T180000Z
UID:036ba254a7b9361f5a86dcf839ace1b7@betabeers.com
CREATED:20140906T230108Z
DESCRIPTION:https://betabeers.com/event/barcelona-cassandra-users-lets-watc
h-cassandrasummit-live-broadcast-together-11-septiembre-2014-2121/
URL:https://betabeers.com/event/barcelona-cassandra-users-lets-watch-cassan
drasummit-live-broadcast-together-11-septiembre-2014-2121/
LAST-MODIFIED:20140906T230108Z
LOCATION:-, Barcelona, España
SEQUENCE:0
STATUS:CONFIRMED
SUMMARY:Barcelona Cassandra Users - Let's watch #CassandraSummit live broad
cast together
TRANSP:OPAQUE
END:VEVENT
END:VCALENDAR
