BEGIN:VCALENDAR
PRODID:-//hacksw/handcal//NONSGML v1.0//EN
VERSION:2.0
CALSCALE:GREGORIAN
METHOD:PUBLISH
X-WR-CALNAME:The Barcelona Python Meetup Group - Artificial Intelligence, Panstamp & TitanDB
X-WR-TIMEZONE:Europe/Madrid
X-WR-CALDESC:The Barcelona Python Meetup Group - Artificial Intelligence, Panstamp & TitanDB
BEGIN:VEVENT
DTSTART:20140925T180000Z
DTEND:20140925T190000Z
DTSTAMP:20140925T180000Z
UID:ceffe2757c29a37cfa8bf71b650013d8@betabeers.com
CREATED:20140906T230011Z
DESCRIPTION:https://betabeers.com/event/the-barcelona-python-meetup-group-a
rtificial-intelligence-panstamp-titandb-25-septiembre-2014-2109/
URL:https://betabeers.com/event/the-barcelona-python-meetup-group-artificia
l-intelligence-panstamp-titandb-25-septiembre-2014-2109/
LAST-MODIFIED:20140906T230011Z
LOCATION:c/ Dr. Aiguader, 88, Barcelona, España
SEQUENCE:0
STATUS:CONFIRMED
SUMMARY:The Barcelona Python Meetup Group - Artificial Intelligence, Pansta
mp & TitanDB
TRANSP:OPAQUE
END:VEVENT
END:VCALENDAR
