BEGIN:VCALENDAR
PRODID:-//hacksw/handcal//NONSGML v1.0//EN
VERSION:2.0
CALSCALE:GREGORIAN
METHOD:PUBLISH
X-WR-CALNAME:MallorcaJS - MallorcaJS Weekly Meeting
X-WR-TIMEZONE:Europe/Madrid
X-WR-CALDESC:MallorcaJS - MallorcaJS Weekly Meeting
BEGIN:VEVENT
DTSTART:20140805T190000Z
DTEND:20140805T200000Z
DTSTAMP:20140805T190000Z
UID:82fd77b5410bd49a101350d4a069f7a3@betabeers.com
CREATED:20140802T230121Z
DESCRIPTION:https://betabeers.com/event/mallorcajs-mallorcajs-weekly-meetin
g-5-agosto-2014-2067/
URL:https://betabeers.com/event/mallorcajs-mallorcajs-weekly-meeting-5-agos
to-2014-2067/
LAST-MODIFIED:20140802T230121Z
LOCATION:C/ Plaza Lloren Bisbal Batle, 3A Bajos, 07002 Palma de Mallorca, I
slas Baleares, Spain, Palma, España
SEQUENCE:0
STATUS:CONFIRMED
SUMMARY:MallorcaJS - MallorcaJS Weekly Meeting
TRANSP:OPAQUE
END:VEVENT
END:VCALENDAR
