BEGIN:VCALENDAR
PRODID:-//hacksw/handcal//NONSGML v1.0//EN
VERSION:2.0
CALSCALE:GREGORIAN
METHOD:PUBLISH
X-WR-CALNAME:Docker Barcelona - Docker Workshop
X-WR-TIMEZONE:Europe/Madrid
X-WR-CALDESC:Docker Barcelona - Docker Workshop
BEGIN:VEVENT
DTSTART:20140724T163000Z
DTEND:20140724T173000Z
DTSTAMP:20140724T163000Z
UID:d9d660ef4744d4c769b178ab939c5934@betabeers.com
CREATED:20140712T230058Z
DESCRIPTION:https://betabeers.com/event/docker-barcelona-docker-workshop-24
-julio-2014-2044/
URL:https://betabeers.com/event/docker-barcelona-docker-workshop-24-julio-2
014-2044/
LAST-MODIFIED:20140712T230058Z
LOCATION:the hacker accelerator, Barcelona, España
SEQUENCE:0
STATUS:CONFIRMED
SUMMARY:Docker Barcelona - Docker Workshop
TRANSP:OPAQUE
END:VEVENT
END:VCALENDAR
