BEGIN:VCALENDAR
PRODID:-//hacksw/handcal//NONSGML v1.0//EN
VERSION:2.0
CALSCALE:GREGORIAN
METHOD:PUBLISH
X-WR-CALNAME:#techHour: Los 9 magníficos, como usamos Kanban en peerTransfer por Joaquín Aspiazu
X-WR-TIMEZONE:Europe/Madrid
X-WR-CALDESC:#techHour: Los 9 magníficos, como usamos Kanban en peerTransfer por Joaquín Aspiazu
BEGIN:VEVENT
DTSTART:20140718T110000Z
DTEND:20140718T130000Z
DTSTAMP:20140718T110000Z
UID:2edb892caae8c236298c66f4569b5dc8@betabeers.com
CREATED:20140709T133912Z
DESCRIPTION:https://betabeers.com/event/techhour-los-9-magnificos-como-usam
os-kanban-peertransfer-por-joaquin-aspiazu-2035/
URL:https://betabeers.com/event/techhour-los-9-magnificos-como-usamos-kanba
n-peertransfer-por-joaquin-aspiazu-2035/
LAST-MODIFIED:20140709T133912Z
LOCATION:Avenida de Cataluña, 11, Valencia, España
SEQUENCE:0
STATUS:CONFIRMED
SUMMARY:#techHour: Los 9 magníficos, como usamos Kanban en peerTransfer po
r Joaquín Aspiazu
TRANSP:OPAQUE
END:VEVENT
END:VCALENDAR
