BEGIN:VCALENDAR
PRODID:-//hacksw/handcal//NONSGML v1.0//EN
VERSION:2.0
CALSCALE:GREGORIAN
METHOD:PUBLISH
X-WR-CALNAME:WeNode
X-WR-TIMEZONE:Europe/Madrid
X-WR-CALDESC:WeNode
BEGIN:VEVENT
DTSTART:20141004T083000Z
DTEND:20141004T170000Z
DTSTAMP:20141004T083000Z
UID:4d685de4adad571c4c12f0bf79523876@betabeers.com
CREATED:20140619T163949Z
DESCRIPTION:https://betabeers.com/event/wenode-2003/
URL:https://betabeers.com/event/wenode-2003/
LAST-MODIFIED:20140619T163949Z
LOCATION:Mobile World Centre, C/ de Fontanella, 2, Barcelona, España
SEQUENCE:0
STATUS:CONFIRMED
SUMMARY:WeNode
TRANSP:OPAQUE
END:VEVENT
END:VCALENDAR
