BEGIN:VCALENDAR
PRODID:-//hacksw/handcal//NONSGML v1.0//EN
VERSION:2.0
CALSCALE:GREGORIAN
METHOD:PUBLISH
X-WR-CALNAME:Sprint Day Zaragoza
X-WR-TIMEZONE:Europe/Madrid
X-WR-CALDESC:Sprint Day Zaragoza
BEGIN:VEVENT
DTSTART:20140705T080000Z
DTEND:20140705T180000Z
DTSTAMP:20140705T080000Z
UID:48d1b448e2fab794b8228ced94df85b7@betabeers.com
CREATED:20140618T211439Z
DESCRIPTION:https://betabeers.com/event/sprint-day-zaragoza-2002/
URL:https://betabeers.com/event/sprint-day-zaragoza-2002/
LAST-MODIFIED:20140618T211439Z
LOCATION:Hispalinux (C/ San Blas, 104), Zaragoza, España
SEQUENCE:0
STATUS:CONFIRMED
SUMMARY:Sprint Day Zaragoza
TRANSP:OPAQUE
END:VEVENT
END:VCALENDAR
