BEGIN:VCALENDAR
PRODID:-//hacksw/handcal//NONSGML v1.0//EN
VERSION:2.0
CALSCALE:GREGORIAN
METHOD:PUBLISH
X-WR-CALNAME:Meetmobile
X-WR-TIMEZONE:Europe/Madrid
X-WR-CALDESC:Meetmobile
BEGIN:VEVENT
DTSTART:20140703T183000Z
DTEND:20140703T200000Z
DTSTAMP:20140703T183000Z
UID:758aa8b92bcb915e9cc412e65f08cfbc@betabeers.com
CREATED:20140613T093013Z
DESCRIPTION:https://betabeers.com/event/meetmobile-1990/
URL:https://betabeers.com/event/meetmobile-1990/
LAST-MODIFIED:20140613T093013Z
LOCATION:Calle Fuencaliente, 4, Valencia, España
SEQUENCE:0
STATUS:CONFIRMED
SUMMARY:Meetmobile
TRANSP:OPAQUE
END:VEVENT
END:VCALENDAR
