BEGIN:VCALENDAR
PRODID:-//hacksw/handcal//NONSGML v1.0//EN
VERSION:2.0
CALSCALE:GREGORIAN
METHOD:PUBLISH
X-WR-CALNAME:Charrosfera - Encuentro de Valleys de España
X-WR-TIMEZONE:Europe/Madrid
X-WR-CALDESC:Charrosfera - Encuentro de Valleys de España
BEGIN:VEVENT
DTSTART:20120331T100000Z
DTEND:20120401T110000Z
DTSTAMP:20120331T100000Z
UID:ad5d261a039e842357fad24822a0524e@betabeers.com
CREATED:20120321T161812Z
DESCRIPTION:https://betabeers.com/event/charrosfera-encuentro-valleys-espan
a-31-marzo-2012-199/
URL:https://betabeers.com/event/charrosfera-encuentro-valleys-espana-31-mar
zo-2012-199/
LAST-MODIFIED:20120321T161812Z
LOCATION:Palacio de Congresos, Cuesta de Oviedo, Salamanca, España
SEQUENCE:0
STATUS:CONFIRMED
SUMMARY:Charrosfera - Encuentro de Valleys de España
TRANSP:OPAQUE
END:VEVENT
END:VCALENDAR
