BEGIN:VCALENDAR
PRODID:-//hacksw/handcal//NONSGML v1.0//EN
VERSION:2.0
CALSCALE:GREGORIAN
METHOD:PUBLISH
X-WR-CALNAME:TechHour: Enrique Sánchez - “Just code or How I learned to write code and stop worrying about the environment”
X-WR-TIMEZONE:Europe/Madrid
X-WR-CALDESC:TechHour: Enrique Sánchez - “Just code or How I learned to write code and stop worrying about the environment”
BEGIN:VEVENT
DTSTART:20140620T110000Z
DTEND:20140620T130000Z
DTSTAMP:20140620T110000Z
UID:be6e212101257cbead0ffdf142976a15@betabeers.com
CREATED:20140612T143005Z
DESCRIPTION:https://betabeers.com/event/techhour-enrique-sanchez-just-code-
or-how-i-learned-to-write-code-and-stop-worrying-about-the-environment-1988
/
URL:https://betabeers.com/event/techhour-enrique-sanchez-just-code-or-how-i
-learned-to-write-code-and-stop-worrying-about-the-environment-1988/
LAST-MODIFIED:20140612T143005Z
LOCATION:Avenida Cataluña, 11, Entresuelo, Valencia, España
SEQUENCE:0
STATUS:CONFIRMED
SUMMARY:TechHour: Enrique Sánchez - “Just code or How I learned to write
 code and stop worrying about the environment”
TRANSP:OPAQUE
END:VEVENT
END:VCALENDAR
