BEGIN:VCALENDAR
PRODID:-//hacksw/handcal//NONSGML v1.0//EN
VERSION:2.0
CALSCALE:GREGORIAN
METHOD:PUBLISH
X-WR-CALNAME:AngularJS Barcelona - June Open Space
X-WR-TIMEZONE:Europe/Madrid
X-WR-CALDESC:AngularJS Barcelona - June Open Space
BEGIN:VEVENT
DTSTART:20140612T180000Z
DTEND:20140612T190000Z
DTSTAMP:20140612T180000Z
UID:bf1bf03a1498ddd1e191ffc15cd2accd@betabeers.com
CREATED:20140531T230107Z
DESCRIPTION:https://betabeers.com/event/angularjs-barcelona-june-open-space
-12-junio-2014-1953/
URL:https://betabeers.com/event/angularjs-barcelona-june-open-space-12-juni
o-2014-1953/
LAST-MODIFIED:20140531T230107Z
LOCATION:Carrer Bailen 11, Barcelona, España
SEQUENCE:0
STATUS:CONFIRMED
SUMMARY:AngularJS Barcelona - June Open Space
TRANSP:OPAQUE
END:VEVENT
END:VCALENDAR
