BEGIN:VCALENDAR
PRODID:-//hacksw/handcal//NONSGML v1.0//EN
VERSION:2.0
CALSCALE:GREGORIAN
METHOD:PUBLISH
X-WR-CALNAME:III Symfony Zaragoza
X-WR-TIMEZONE:Europe/Madrid
X-WR-CALDESC:III Symfony Zaragoza
BEGIN:VEVENT
DTSTART:20140610T180000Z
DTEND:20140609T230000Z
DTSTAMP:20140610T180000Z
UID:4cad80c4e7d4ff67bda067b07e54833b@betabeers.com
CREATED:20140529T113118Z
DESCRIPTION:https://betabeers.com/event/iii-symfony-zaragoza-1936/
URL:https://betabeers.com/event/iii-symfony-zaragoza-1936/
LAST-MODIFIED:20140529T113118Z
LOCATION:DLabs, Camino de la mosquetera 41, Zaragoza, España
SEQUENCE:0
STATUS:CONFIRMED
SUMMARY:III Symfony Zaragoza
TRANSP:OPAQUE
END:VEVENT
END:VCALENDAR
