BEGIN:VCALENDAR
PRODID:-//hacksw/handcal//NONSGML v1.0//EN
VERSION:2.0
CALSCALE:GREGORIAN
METHOD:PUBLISH
X-WR-CALNAME:Viernes Abierto
X-WR-TIMEZONE:Europe/Madrid
X-WR-CALDESC:Viernes Abierto
BEGIN:VEVENT
DTSTART:20140606T180000Z
DTEND:20140606T200000Z
DTSTAMP:20140606T180000Z
UID:dea599f876914cd882cfa73efd9d9b12@betabeers.com
CREATED:20140528T110518Z
DESCRIPTION:https://betabeers.com/event/viernes-abierto-6-junio-2014-1932/
URL:https://betabeers.com/event/viernes-abierto-6-junio-2014-1932/
LAST-MODIFIED:20140528T110518Z
LOCATION:Camino de la mosquetera 41, Zaragoza, España
SEQUENCE:0
STATUS:CONFIRMED
SUMMARY:Viernes Abierto
TRANSP:OPAQUE
END:VEVENT
END:VCALENDAR
