BEGIN:VCALENDAR
PRODID:-//hacksw/handcal//NONSGML v1.0//EN
VERSION:2.0
CALSCALE:GREGORIAN
METHOD:PUBLISH
X-WR-CALNAME:Viernes Abierto
X-WR-TIMEZONE:Europe/Madrid
X-WR-CALDESC:Viernes Abierto
BEGIN:VEVENT
DTSTART:20140620T180000Z
DTEND:20140620T200000Z
DTSTAMP:20140620T180000Z
UID:26c8037d485f1fa5911ade76c48c24ec@betabeers.com
CREATED:20140528T110503Z
DESCRIPTION:https://betabeers.com/event/viernes-abierto-20-junio-2014-1931/
URL:https://betabeers.com/event/viernes-abierto-20-junio-2014-1931/
LAST-MODIFIED:20140528T110503Z
LOCATION:Camino de la mosquetera 41, Zaragoza, España
SEQUENCE:0
STATUS:CONFIRMED
SUMMARY:Viernes Abierto
TRANSP:OPAQUE
END:VEVENT
END:VCALENDAR
