BEGIN:VCALENDAR
PRODID:-//hacksw/handcal//NONSGML v1.0//EN
VERSION:2.0
CALSCALE:GREGORIAN
METHOD:PUBLISH
X-WR-CALNAME:IV Cata de cerveza artesana de Dlabs
X-WR-TIMEZONE:Europe/Madrid
X-WR-CALDESC:IV Cata de cerveza artesana de Dlabs
BEGIN:VEVENT
DTSTART:20140629T180000Z
DTEND:20140629T210000Z
DTSTAMP:20140629T180000Z
UID:72da01791b3e7de441dc408b9b991bf1@betabeers.com
CREATED:20140528T110448Z
DESCRIPTION:https://betabeers.com/event/iv-cata-cerveza-artesana-dlabs-29-j
unio-2014-1930/
URL:https://betabeers.com/event/iv-cata-cerveza-artesana-dlabs-29-junio-201
4-1930/
LAST-MODIFIED:20140528T110448Z
LOCATION:Camino de la mosquetera 41, Zaragoza, España
SEQUENCE:0
STATUS:CONFIRMED
SUMMARY:IV Cata de cerveza artesana de Dlabs
TRANSP:OPAQUE
END:VEVENT
END:VCALENDAR
