BEGIN:VCALENDAR
PRODID:-//hacksw/handcal//NONSGML v1.0//EN
VERSION:2.0
CALSCALE:GREGORIAN
METHOD:PUBLISH
X-WR-CALNAME:Viernes Abierto
X-WR-TIMEZONE:Europe/Madrid
X-WR-CALDESC:Viernes Abierto
BEGIN:VEVENT
DTSTART:20140627T180000Z
DTEND:20140627T200000Z
DTSTAMP:20140627T180000Z
UID:e23b21dc3664151dd7541d10042b4e1f@betabeers.com
CREATED:20140528T110415Z
DESCRIPTION:https://betabeers.com/event/viernes-abierto-27-junio-2014-1928/
URL:https://betabeers.com/event/viernes-abierto-27-junio-2014-1928/
LAST-MODIFIED:20140528T110415Z
LOCATION:Camino de la mosquetera 41, Zaragoza, España
SEQUENCE:0
STATUS:CONFIRMED
SUMMARY:Viernes Abierto
TRANSP:OPAQUE
END:VEVENT
END:VCALENDAR
