BEGIN:VCALENDAR
PRODID:-//hacksw/handcal//NONSGML v1.0//EN
VERSION:2.0
CALSCALE:GREGORIAN
METHOD:PUBLISH
X-WR-CALNAME:The Barcelona Python Meetup Group - Python and Databases
X-WR-TIMEZONE:Europe/Madrid
X-WR-CALDESC:The Barcelona Python Meetup Group - Python and Databases
BEGIN:VEVENT
DTSTART:20140522T180000Z
DTEND:20140522T190000Z
DTSTAMP:20140522T180000Z
UID:1643716041aef6506e3c9fb9249fca12@betabeers.com
CREATED:20140517T230008Z
DESCRIPTION:https://betabeers.com/event/the-barcelona-python-meetup-group-p
ython-and-databases-22-mayo-2014-1900/
URL:https://betabeers.com/event/the-barcelona-python-meetup-group-python-an
d-databases-22-mayo-2014-1900/
LAST-MODIFIED:20140517T230008Z
LOCATION:c/ Dr. Aiguader, 88, Barcelona, España
SEQUENCE:0
STATUS:CONFIRMED
SUMMARY:The Barcelona Python Meetup Group - Python and Databases
TRANSP:OPAQUE
END:VEVENT
END:VCALENDAR
