BEGIN:VCALENDAR
PRODID:-//hacksw/handcal//NONSGML v1.0//EN
VERSION:2.0
CALSCALE:GREGORIAN
METHOD:PUBLISH
X-WR-CALNAME:Vailets Hacklab Day
X-WR-TIMEZONE:Europe/Madrid
X-WR-CALDESC:Vailets Hacklab Day
BEGIN:VEVENT
DTSTART:20140517T090000Z
DTEND:20140517T180000Z
DTSTAMP:20140517T090000Z
UID:2e89e9f0fe3cd364a9f7803beebb67b9@betabeers.com
CREATED:20140516T094404Z
DESCRIPTION:https://betabeers.com/event/vailets-hacklab-day-17-mayo-2014-18
94/
URL:https://betabeers.com/event/vailets-hacklab-day-17-mayo-2014-1894/
LAST-MODIFIED:20140516T094404Z
LOCATION:C Novell, 78, Barcelona, España
SEQUENCE:0
STATUS:CONFIRMED
SUMMARY:Vailets Hacklab Day
TRANSP:OPAQUE
END:VEVENT
END:VCALENDAR
