BEGIN:VCALENDAR
PRODID:-//hacksw/handcal//NONSGML v1.0//EN
VERSION:2.0
CALSCALE:GREGORIAN
METHOD:PUBLISH
X-WR-CALNAME:Drupal & Beers Zaragoza
X-WR-TIMEZONE:Europe/Madrid
X-WR-CALDESC:Drupal & Beers Zaragoza
BEGIN:VEVENT
DTSTART:20140508T190000Z
DTEND:20140508T220000Z
DTSTAMP:20140508T190000Z
UID:bf345d58193e453ee81fa7365e47c09b@betabeers.com
CREATED:20140506T125521Z
DESCRIPTION:https://betabeers.com/event/drupal-beers-zaragoza-1872/
URL:https://betabeers.com/event/drupal-beers-zaragoza-1872/
LAST-MODIFIED:20140506T125521Z
LOCATION:C/Asalto, 5, Zaragoza, España
SEQUENCE:0
STATUS:CONFIRMED
SUMMARY:Drupal & Beers Zaragoza
TRANSP:OPAQUE
END:VEVENT
END:VCALENDAR
