BEGIN:VCALENDAR
PRODID:-//hacksw/handcal//NONSGML v1.0//EN
VERSION:2.0
CALSCALE:GREGORIAN
METHOD:PUBLISH
X-WR-CALNAME:WordPress Barcelona - WordPress y Escalabilidad: el hosting perfecto
X-WR-TIMEZONE:Europe/Madrid
X-WR-CALDESC:WordPress Barcelona - WordPress y Escalabilidad: el hosting perfecto
BEGIN:VEVENT
DTSTART:20140514T180000Z
DTEND:20140514T190000Z
DTSTAMP:20140514T180000Z
UID:fb7ddadce20a030fed73126b92eb77c2@betabeers.com
CREATED:20140503T230104Z
DESCRIPTION:https://betabeers.com/event/wordpress-barcelona-wordpress-escal
abilidad-el-hosting-perfecto-14-mayo-2014-1866/
URL:https://betabeers.com/event/wordpress-barcelona-wordpress-escalabilidad
-el-hosting-perfecto-14-mayo-2014-1866/
LAST-MODIFIED:20140503T230104Z
LOCATION:Fontanella 2, Barcelona, España
SEQUENCE:0
STATUS:CONFIRMED
SUMMARY:WordPress Barcelona - WordPress y Escalabilidad: el hosting perfect
o
TRANSP:OPAQUE
END:VEVENT
END:VCALENDAR
