BEGIN:VCALENDAR
PRODID:-//hacksw/handcal//NONSGML v1.0//EN
VERSION:2.0
CALSCALE:GREGORIAN
METHOD:PUBLISH
X-WR-CALNAME:AngularJS Barcelona - Dart Flight School with AngularDart by Google
X-WR-TIMEZONE:Europe/Madrid
X-WR-CALDESC:AngularJS Barcelona - Dart Flight School with AngularDart by Google
BEGIN:VEVENT
DTSTART:20140516T163000Z
DTEND:20140516T173000Z
DTSTAMP:20140516T163000Z
UID:dcc06bafddc2133cb8a51e17bc8ad94b@betabeers.com
CREATED:20140503T230103Z
DESCRIPTION:https://betabeers.com/event/angularjs-barcelona-dart-flight-sch
ool-with-angulardart-by-google-16-mayo-2014-1865/
URL:https://betabeers.com/event/angularjs-barcelona-dart-flight-school-with
-angulardart-by-google-16-mayo-2014-1865/
LAST-MODIFIED:20140503T230103Z
LOCATION:Carrer Bailen 11, Barcelona, España
SEQUENCE:0
STATUS:CONFIRMED
SUMMARY:AngularJS Barcelona - Dart Flight School with AngularDart by Google
TRANSP:OPAQUE
END:VEVENT
END:VCALENDAR
