BEGIN:VCALENDAR
PRODID:-//hacksw/handcal//NONSGML v1.0//EN
VERSION:2.0
CALSCALE:GREGORIAN
METHOD:PUBLISH
X-WR-CALNAME:Internet of Things Santander - 2º Internet of Things Santander Meetup
X-WR-TIMEZONE:Europe/Madrid
X-WR-CALDESC:Internet of Things Santander - 2º Internet of Things Santander Meetup
BEGIN:VEVENT
DTSTART:20140530T190000Z
DTEND:20140530T200000Z
DTSTAMP:20140530T190000Z
UID:9624bc141c2ab69790a8f49daf5a8bd4@betabeers.com
CREATED:20140503T230059Z
DESCRIPTION:https://betabeers.com/event/internet-things-santander-2-interne
t-things-santander-meetup-30-mayo-2014-1863/
URL:https://betabeers.com/event/internet-things-santander-2-internet-things
-santander-meetup-30-mayo-2014-1863/
LAST-MODIFIED:20140503T230059Z
LOCATION:Cantabria, Santander, España
SEQUENCE:0
STATUS:CONFIRMED
SUMMARY:Internet of Things Santander - 2º Internet of Things Santander Mee
tup
TRANSP:OPAQUE
END:VEVENT
END:VCALENDAR
