BEGIN:VCALENDAR
PRODID:-//hacksw/handcal//NONSGML v1.0//EN
VERSION:2.0
CALSCALE:GREGORIAN
METHOD:PUBLISH
X-WR-CALNAME:I Meetup AWC
X-WR-TIMEZONE:Europe/Madrid
X-WR-CALDESC:I Meetup AWC
BEGIN:VEVENT
DTSTART:20140509T173000Z
DTEND:20140509T193000Z
DTSTAMP:20140509T173000Z
UID:c07d6f3ea78699a514784421b92694fc@betabeers.com
CREATED:20140501T113043Z
DESCRIPTION:https://betabeers.com/event/i-meetup-awc-9-mayo-2014-1846/
URL:https://betabeers.com/event/i-meetup-awc-9-mayo-2014-1846/
LAST-MODIFIED:20140501T113043Z
LOCATION:Av. Los Castros S/N, Santander, España
SEQUENCE:0
STATUS:CONFIRMED
SUMMARY:I Meetup AWC
TRANSP:OPAQUE
END:VEVENT
END:VCALENDAR
