BEGIN:VCALENDAR
PRODID:-//hacksw/handcal//NONSGML v1.0//EN
VERSION:2.0
CALSCALE:GREGORIAN
METHOD:PUBLISH
X-WR-CALNAME:Consideraciones legales para los emprendedores y startups.
X-WR-TIMEZONE:Europe/Madrid
X-WR-CALDESC:Consideraciones legales para los emprendedores y startups.
BEGIN:VEVENT
DTSTART:20140508T090000Z
DTEND:20140508T120000Z
DTSTAMP:20140508T090000Z
UID:5d261a5b53a4c541323972a14a81cf22@betabeers.com
CREATED:20140424T112233Z
DESCRIPTION:https://betabeers.com/event/consideraciones-legales-los-emprend
edores-startups-8-mayo-2014-1837/
URL:https://betabeers.com/event/consideraciones-legales-los-emprendedores-s
tartups-8-mayo-2014-1837/
LAST-MODIFIED:20140424T112233Z
LOCATION:Calle Sant Joan de la Salle 42, Barcelona, España
SEQUENCE:0
STATUS:CONFIRMED
SUMMARY:Consideraciones legales para los emprendedores y startups.
TRANSP:OPAQUE
END:VEVENT
END:VCALENDAR
