BEGIN:VCALENDAR
PRODID:-//hacksw/handcal//NONSGML v1.0//EN
VERSION:2.0
CALSCALE:GREGORIAN
METHOD:PUBLISH
X-WR-CALNAME:Java 8 Lambdas and Devices (with Stephen Chin)
X-WR-TIMEZONE:Europe/Madrid
X-WR-CALDESC:Java 8 Lambdas and Devices (with Stephen Chin)
BEGIN:VEVENT
DTSTART:20140414T170000Z
DTEND:20140414T193000Z
DTSTAMP:20140414T170000Z
UID:e16d6f898ed6ed0295d7fe4d9f8afd88@betabeers.com
CREATED:20140408T154834Z
DESCRIPTION:https://betabeers.com/event/java-8-lambdas-and-devices-with-ste
phen-chin-14-abril-2014-1791/
URL:https://betabeers.com/event/java-8-lambdas-and-devices-with-stephen-chi
n-14-abril-2014-1791/
LAST-MODIFIED:20140408T154834Z
LOCATION:Col·legi Oficial d'Enginyeria Tècnica en Informàtica i Grau de 
Catalunya (Coetic) C. Via Laietana, 39,, Barcelona, España
SEQUENCE:0
STATUS:CONFIRMED
SUMMARY:Java 8 Lambdas and Devices (with Stephen Chin)
TRANSP:OPAQUE
END:VEVENT
END:VCALENDAR
