BEGIN:VCALENDAR
PRODID:-//hacksw/handcal//NONSGML v1.0//EN
VERSION:2.0
CALSCALE:GREGORIAN
METHOD:PUBLISH
X-WR-CALNAME:Scala Developers Barcelona - End of Quarter Scala Beers.
X-WR-TIMEZONE:Europe/Madrid
X-WR-CALDESC:Scala Developers Barcelona - End of Quarter Scala Beers.
BEGIN:VEVENT
DTSTART:20140410T180000Z
DTEND:20140410T190000Z
DTSTAMP:20140410T180000Z
UID:c92be628ff984065cf1eb9fc514b6a3c@betabeers.com
CREATED:20140405T104219Z
DESCRIPTION:https://betabeers.com/event/scala-developers-barcelona-end-quar
ter-scala-beers-10-abril-2014-1787/
URL:https://betabeers.com/event/scala-developers-barcelona-end-quarter-scal
a-beers-10-abril-2014-1787/
LAST-MODIFIED:20140405T104219Z
LOCATION:Plaça de la Sagrada Familia, 4, Barcelona, España
SEQUENCE:0
STATUS:CONFIRMED
SUMMARY:Scala Developers Barcelona - End of Quarter Scala Beers.
TRANSP:OPAQUE
END:VEVENT
END:VCALENDAR
