BEGIN:VCALENDAR
PRODID:-//hacksw/handcal//NONSGML v1.0//EN
VERSION:2.0
CALSCALE:GREGORIAN
METHOD:PUBLISH
X-WR-CALNAME:TallerCocina tu idea linktoStart 2012/Inauguración linktoLAB
X-WR-TIMEZONE:Europe/Madrid
X-WR-CALDESC:TallerCocina tu idea linktoStart 2012/Inauguración linktoLAB
BEGIN:VEVENT
DTSTART:20120322T160000Z
DTEND:20120322T194000Z
DTSTAMP:20120322T160000Z
UID:cea24900d48980104673d299c9a1be74@betabeers.com
CREATED:20120308T155139Z
DESCRIPTION:https://betabeers.com/event/tallercocina-tu-idea-linktostart-20
12-inauguracion-linktolab-22-marzo-2012-173/
URL:https://betabeers.com/event/tallercocina-tu-idea-linktostart-2012-inaug
uracion-linktolab-22-marzo-2012-173/
LAST-MODIFIED:20120308T155139Z
LOCATION:Almogàvers Business Factory, Carrer Almogàvers, 165, Barcelona, 
España
SEQUENCE:0
STATUS:CONFIRMED
SUMMARY:TallerCocina tu idea linktoStart 2012/Inauguración linktoLAB
TRANSP:OPAQUE
END:VEVENT
END:VCALENDAR
