BEGIN:VCALENDAR
PRODID:-//hacksw/handcal//NONSGML v1.0//EN
VERSION:2.0
CALSCALE:GREGORIAN
METHOD:PUBLISH
X-WR-CALNAME:Docker Barcelona - Introduction to Docker
X-WR-TIMEZONE:Europe/Madrid
X-WR-CALDESC:Docker Barcelona - Introduction to Docker
BEGIN:VEVENT
DTSTART:20140326T170000Z
DTEND:20140326T180000Z
DTSTAMP:20140326T170000Z
UID:b5eb45613e8dcd21edf8bc725db7cdad@betabeers.com
CREATED:20140324T023340Z
DESCRIPTION:https://betabeers.com/event/docker-barcelona-introduction-to-do
cker-26-marzo-2014-1726/
URL:https://betabeers.com/event/docker-barcelona-introduction-to-docker-26-
marzo-2014-1726/
LAST-MODIFIED:20140324T023340Z
LOCATION:Carrer de Nápols, 187, Barcelona, España
SEQUENCE:0
STATUS:CONFIRMED
SUMMARY:Docker Barcelona - Introduction to Docker
TRANSP:OPAQUE
END:VEVENT
END:VCALENDAR
