BEGIN:VCALENDAR
PRODID:-//hacksw/handcal//NONSGML v1.0//EN
VERSION:2.0
CALSCALE:GREGORIAN
METHOD:PUBLISH
X-WR-CALNAME:Arduino Day Zaragoza
X-WR-TIMEZONE:Europe/Madrid
X-WR-CALDESC:Arduino Day Zaragoza
BEGIN:VEVENT
DTSTART:20140329T090000Z
DTEND:20140329T193000Z
DTSTAMP:20140329T090000Z
UID:626131d65fd9c35e3227b250da9aec6f@betabeers.com
CREATED:20140321T144826Z
DESCRIPTION:https://betabeers.com/event/arduino-day-zaragoza-29-marzo-2014-
1723/
URL:https://betabeers.com/event/arduino-day-zaragoza-29-marzo-2014-1723/
LAST-MODIFIED:20140321T144826Z
LOCATION:Avenida de la autonomía 7, Zaragoza, España
SEQUENCE:0
STATUS:CONFIRMED
SUMMARY:Arduino Day Zaragoza
TRANSP:OPAQUE
END:VEVENT
END:VCALENDAR
