BEGIN:VCALENDAR
PRODID:-//hacksw/handcal//NONSGML v1.0//EN
VERSION:2.0
CALSCALE:GREGORIAN
METHOD:PUBLISH
X-WR-CALNAME:KDE Akademy-es Zaragoza 2012
X-WR-TIMEZONE:Europe/Madrid
X-WR-CALDESC:KDE Akademy-es Zaragoza 2012
BEGIN:VEVENT
DTSTART:20120518T060000Z
DTEND:20120520T060000Z
DTSTAMP:20120518T060000Z
UID:c158e6e9ab1d9782076248ec978f2a9b@betabeers.com
CREATED:20120307T111550Z
DESCRIPTION:https://betabeers.com/event/kde-akademy-es-zaragoza-2012-18-may
o-2012-169/
URL:https://betabeers.com/event/kde-akademy-es-zaragoza-2012-18-mayo-2012-1
69/
LAST-MODIFIED:20120307T111550Z
LOCATION:Ayuntamiento de Zaragoza, Plaza Nuestra Señora del Pilar, 18, Zar
agoza, España
SEQUENCE:0
STATUS:CONFIRMED
SUMMARY:KDE Akademy-es Zaragoza 2012
TRANSP:OPAQUE
END:VEVENT
END:VCALENDAR
