BEGIN:VCALENDAR
PRODID:-//hacksw/handcal//NONSGML v1.0//EN
VERSION:2.0
CALSCALE:GREGORIAN
METHOD:PUBLISH
X-WR-CALNAME:Startup Weekend Galicia 2013
X-WR-TIMEZONE:Europe/Madrid
X-WR-CALDESC:Startup Weekend Galicia 2013
BEGIN:VEVENT
DTSTART:20130712T173000Z
DTEND:20130714T200000Z
DTSTAMP:20130712T173000Z
UID:14a5f97c0d8b65776f57a9fd8a018f0f@betabeers.com
CREATED:20140313T135022Z
DESCRIPTION:https://betabeers.com/event/startup-weekend-galicia-2013-1684/
URL:https://betabeers.com/event/startup-weekend-galicia-2013-1684/
LAST-MODIFIED:20140313T135022Z
LOCATION:Sede de Elogia, Praza de Compostela, 17, 3º, Vigo, España
SEQUENCE:0
STATUS:CONFIRMED
SUMMARY:Startup Weekend Galicia 2013
TRANSP:OPAQUE
END:VEVENT
END:VCALENDAR
