BEGIN:VCALENDAR
PRODID:-//hacksw/handcal//NONSGML v1.0//EN
VERSION:2.0
CALSCALE:GREGORIAN
METHOD:PUBLISH
X-WR-CALNAME:Apptualízate México
X-WR-TIMEZONE:Europe/Madrid
X-WR-CALDESC:Apptualízate México
BEGIN:VEVENT
DTSTART:20120321T080000Z
DTEND:20120323T190000Z
DTSTAMP:20120321T080000Z
UID:8b27b6abcd7e7940390bdc635de098d8@betabeers.com
CREATED:20120305T181024Z
DESCRIPTION:https://betabeers.com/event/apptualizate-mexico-163/
URL:https://betabeers.com/event/apptualizate-mexico-163/
LAST-MODIFIED:20120305T181024Z
LOCATION:World Trade Center México, Filadelfia s/n, Nápoles, Benito Juár
ez, Mexico City, México
SEQUENCE:0
STATUS:CONFIRMED
SUMMARY:Apptualízate México
TRANSP:OPAQUE
END:VEVENT
END:VCALENDAR
