BEGIN:VCALENDAR
PRODID:-//hacksw/handcal//NONSGML v1.0//EN
VERSION:2.0
CALSCALE:GREGORIAN
METHOD:PUBLISH
X-WR-CALNAME:Python Barcelona - Python for beginners / Learn some python
X-WR-TIMEZONE:Europe/Madrid
X-WR-CALDESC:Python Barcelona - Python for beginners / Learn some python
BEGIN:VEVENT
DTSTART:20140320T180000Z
DTEND:20140320T190000Z
DTSTAMP:20140320T180000Z
UID:808ea43eeff9561044cd4ea64302d3b8@betabeers.com
CREATED:20140302T054244Z
DESCRIPTION:https://betabeers.com/event/python-barcelona-python-for-beginne
rs-learn-some-python-1614/
URL:https://betabeers.com/event/python-barcelona-python-for-beginners-learn
-some-python-1614/
LAST-MODIFIED:20140302T054244Z
LOCATION:c/ Dr. Aiguader, 88, Barcelona, España
SEQUENCE:0
STATUS:CONFIRMED
SUMMARY:Python Barcelona - Python for beginners / Learn some python
TRANSP:OPAQUE
END:VEVENT
END:VCALENDAR
