BEGIN:VCALENDAR
PRODID:-//hacksw/handcal//NONSGML v1.0//EN
VERSION:2.0
CALSCALE:GREGORIAN
METHOD:PUBLISH
X-WR-CALNAME:ALLSTARTUP3
X-WR-TIMEZONE:Europe/Madrid
X-WR-CALDESC:ALLSTARTUP3
BEGIN:VEVENT
DTSTART:20140228T140000Z
DTEND:20140302T180000Z
DTSTAMP:20140228T140000Z
UID:c37d7827f723d94d7803ecae5c4847d0@betabeers.com
CREATED:20140217T115958Z
DESCRIPTION:https://betabeers.com/event/allstartup3-28-febrero-2014-1572/
URL:https://betabeers.com/event/allstartup3-28-febrero-2014-1572/
LAST-MODIFIED:20140217T115958Z
LOCATION:Gran Via Marqués del Turia 39 pta 5, Valencia, España
SEQUENCE:0
STATUS:CONFIRMED
SUMMARY:ALLSTARTUP3
TRANSP:OPAQUE
END:VEVENT
END:VCALENDAR
