BEGIN:VCALENDAR
PRODID:-//hacksw/handcal//NONSGML v1.0//EN
VERSION:2.0
CALSCALE:GREGORIAN
METHOD:PUBLISH
X-WR-CALNAME:Sabado Hacker en Dlabs - Airoscript
X-WR-TIMEZONE:Europe/Madrid
X-WR-CALDESC:Sabado Hacker en Dlabs - Airoscript
BEGIN:VEVENT
DTSTART:20140215T180000Z
DTEND:20140215T190000Z
DTSTAMP:20140215T180000Z
UID:c3b1a687a5a20449bf38fbab411a3307@betabeers.com
CREATED:20140211T134149Z
DESCRIPTION:https://betabeers.com/event/sabado-hacker-dlabs-airoscript-15-f
ebrero-2014-1547/
URL:https://betabeers.com/event/sabado-hacker-dlabs-airoscript-15-febrero-2
014-1547/
LAST-MODIFIED:20140211T134149Z
LOCATION:Camino de la mosquetera 41, Zaragoza, España
SEQUENCE:0
STATUS:CONFIRMED
SUMMARY:Sabado Hacker en Dlabs - Airoscript
TRANSP:OPAQUE
END:VEVENT
END:VCALENDAR
