BEGIN:VCALENDAR
PRODID:-//hacksw/handcal//NONSGML v1.0//EN
VERSION:2.0
CALSCALE:GREGORIAN
METHOD:PUBLISH
X-WR-CALNAME:eShow Barcelona
X-WR-TIMEZONE:Europe/Madrid
X-WR-CALDESC:eShow Barcelona
BEGIN:VEVENT
DTSTART:20120314T080000Z
DTEND:20120315T190000Z
DTSTAMP:20120314T080000Z
UID:b9c2ea27ac57ffc5d7e1390827171cad@betabeers.com
CREATED:20120304T003824Z
DESCRIPTION:https://betabeers.com/event/eshow-barcelona-14-marzo-2012-154/
URL:https://betabeers.com/event/eshow-barcelona-14-marzo-2012-154/
LAST-MODIFIED:20120304T003824Z
LOCATION:Fira de Barcelona Avenida de la Reina María Cristina 08004 Barcel
ona, Barcelona, España
SEQUENCE:0
STATUS:CONFIRMED
SUMMARY:eShow Barcelona
TRANSP:OPAQUE
END:VEVENT
END:VCALENDAR
