BEGIN:VCALENDAR
PRODID:-//hacksw/handcal//NONSGML v1.0//EN
VERSION:2.0
CALSCALE:GREGORIAN
METHOD:PUBLISH
X-WR-CALNAME:WebVisions
X-WR-TIMEZONE:Europe/Madrid
X-WR-CALDESC:WebVisions
BEGIN:VEVENT
DTSTART:20120704T080000Z
DTEND:20120707T190000Z
DTSTAMP:20120704T080000Z
UID:07e5b2ba9adf292d0a35b875593fb6d6@betabeers.com
CREATED:20120304T002324Z
DESCRIPTION:https://betabeers.com/event/webvisions-153/
URL:https://betabeers.com/event/webvisions-153/
LAST-MODIFIED:20120304T002324Z
LOCATION:Pompeu Fabra University Roc Boronat, 138, Barcelona, España
SEQUENCE:0
STATUS:CONFIRMED
SUMMARY:WebVisions
TRANSP:OPAQUE
END:VEVENT
END:VCALENDAR
