BEGIN:VCALENDAR
PRODID:-//hacksw/handcal//NONSGML v1.0//EN
VERSION:2.0
CALSCALE:GREGORIAN
METHOD:PUBLISH
X-WR-CALNAME:The Barcelona Python Meetup Group - Python Web Microframeworks
X-WR-TIMEZONE:Europe/Madrid
X-WR-CALDESC:The Barcelona Python Meetup Group - Python Web Microframeworks
BEGIN:VEVENT
DTSTART:20140220T180000Z
DTEND:20140220T190000Z
DTSTAMP:20140220T180000Z
UID:1c8971af666469723ad25ad37b2d6755@betabeers.com
CREATED:20140201T225911Z
DESCRIPTION:https://betabeers.com/event/the-barcelona-python-meetup-group-p
ython-web-microframeworks-20-febrero-2014-1522/
URL:https://betabeers.com/event/the-barcelona-python-meetup-group-python-we
b-microframeworks-20-febrero-2014-1522/
LAST-MODIFIED:20140201T225911Z
LOCATION:c/ Dr. Aiguader, 88, Barcelona, Espa
SEQUENCE:0
STATUS:CONFIRMED
SUMMARY:The Barcelona Python Meetup Group - Python Web Microframeworks
TRANSP:OPAQUE
END:VEVENT
END:VCALENDAR
