BEGIN:VCALENDAR
PRODID:-//hacksw/handcal//NONSGML v1.0//EN
VERSION:2.0
CALSCALE:GREGORIAN
METHOD:PUBLISH
X-WR-CALNAME:Webinar sobre prototipado y usabilidad
X-WR-TIMEZONE:Europe/Madrid
X-WR-CALDESC:Webinar sobre prototipado y usabilidad
BEGIN:VEVENT
DTSTART:20140121T230000Z
DTEND:20140121T230000Z
DTSTAMP:20140121T230000Z
UID:136fd097a3cb1f600f80e036d5f4075a@betabeers.com
CREATED:20140120T091631Z
DESCRIPTION:https://betabeers.com/event/webinar-sobre-prototipado-usabilida
d-1500/
URL:https://betabeers.com/event/webinar-sobre-prototipado-usabilidad-1500/
LAST-MODIFIED:20140120T091631Z
LOCATION:Entenza 157, online
SEQUENCE:0
STATUS:CONFIRMED
SUMMARY:Webinar sobre prototipado y usabilidad
TRANSP:OPAQUE
END:VEVENT
END:VCALENDAR
