BEGIN:VCALENDAR
PRODID:-//hacksw/handcal//NONSGML v1.0//EN
VERSION:2.0
CALSCALE:GREGORIAN
METHOD:PUBLISH
X-WR-CALNAME:VI Global Game Jam - Sede Bilbao
X-WR-TIMEZONE:Europe/Madrid
X-WR-CALDESC:VI Global Game Jam - Sede Bilbao
BEGIN:VEVENT
DTSTART:20140124T170000Z
DTEND:20140126T170000Z
DTSTAMP:20140124T170000Z
UID:9797475f0bcca5da9feec3934b358865@betabeers.com
CREATED:20140113T172435Z
DESCRIPTION:https://betabeers.com/event/vi-global-game-jam-sede-bilbao-1466
/
URL:https://betabeers.com/event/vi-global-game-jam-sede-bilbao-1466/
LAST-MODIFIED:20140113T172435Z
LOCATION:Ribera de Deusto, 46, Zorrotzaurre, bilbao, Bilbao, España
SEQUENCE:0
STATUS:CONFIRMED
SUMMARY:VI Global Game Jam - Sede Bilbao
TRANSP:OPAQUE
END:VEVENT
END:VCALENDAR
