BEGIN:VCALENDAR
PRODID:-//hacksw/handcal//NONSGML v1.0//EN
VERSION:2.0
CALSCALE:GREGORIAN
METHOD:PUBLISH
X-WR-CALNAME:smashtech - Mobile Business
X-WR-TIMEZONE:Europe/Madrid
X-WR-CALDESC:smashtech - Mobile Business
BEGIN:VEVENT
DTSTART:20140131T083000Z
DTEND:20140131T183000Z
DTSTAMP:20140131T083000Z
UID:cfd1fd24af05da10fcba3efbd2d6b6f5@betabeers.com
CREATED:20140113T102417Z
DESCRIPTION:https://betabeers.com/event/smashtech-mobile-business-31-enero-
2014-1464/
URL:https://betabeers.com/event/smashtech-mobile-business-31-enero-2014-146
4/
LAST-MODIFIED:20140113T102417Z
LOCATION:Mobile World Center, Barcelona, España
SEQUENCE:0
STATUS:CONFIRMED
SUMMARY:smashtech - Mobile Business
TRANSP:OPAQUE
END:VEVENT
END:VCALENDAR
