BEGIN:VCALENDAR
PRODID:-//hacksw/handcal//NONSGML v1.0//EN
VERSION:2.0
CALSCALE:GREGORIAN
METHOD:PUBLISH
X-WR-CALNAME:The Barcelona Python Meetup Group - Robotics and Python
X-WR-TIMEZONE:Europe/Madrid
X-WR-CALDESC:The Barcelona Python Meetup Group - Robotics and Python
BEGIN:VEVENT
DTSTART:20140116T180000Z
DTEND:20140116T190000Z
DTSTAMP:20140116T180000Z
UID:3172b001fafd6d480d795a11dde78d9d@betabeers.com
CREATED:20140104T225932Z
DESCRIPTION:https://betabeers.com/event/the-barcelona-python-meetup-group-r
obotics-and-python-16-enero-2014-1444/
URL:https://betabeers.com/event/the-barcelona-python-meetup-group-robotics-
and-python-16-enero-2014-1444/
LAST-MODIFIED:20140104T225932Z
LOCATION:c/ Dr. Aiguader, 88, Barcelona, España
SEQUENCE:0
STATUS:CONFIRMED
SUMMARY:The Barcelona Python Meetup Group - Robotics and Python
TRANSP:OPAQUE
END:VEVENT
END:VCALENDAR
