BEGIN:VCALENDAR
PRODID:-//hacksw/handcal//NONSGML v1.0//EN
VERSION:2.0
CALSCALE:GREGORIAN
METHOD:PUBLISH
X-WR-CALNAME:Global Day of Coderetreat 2013 - Agile-Barcelona
X-WR-TIMEZONE:Europe/Madrid
X-WR-CALDESC:Global Day of Coderetreat 2013 - Agile-Barcelona
BEGIN:VEVENT
DTSTART:20131213T230000Z
DTEND:20131213T230000Z
DTSTAMP:20131213T230000Z
UID:25a111a2e831d0387d5bf8537d98de0b@betabeers.com
CREATED:20131211T171126Z
DESCRIPTION:https://betabeers.com/event/global-day-coderetreat-2013-agile-b
arcelona-14-diciembre-2013-1426/
URL:https://betabeers.com/event/global-day-coderetreat-2013-agile-barcelona
-14-diciembre-2013-1426/
LAST-MODIFIED:20131211T171126Z
LOCATION:Carrer de Milà i Fontanals, 14 3º 2ª, Barcelona, España
SEQUENCE:0
STATUS:CONFIRMED
SUMMARY:Global Day of Coderetreat 2013 - Agile-Barcelona
TRANSP:OPAQUE
END:VEVENT
END:VCALENDAR
