BEGIN:VCALENDAR
PRODID:-//hacksw/handcal//NONSGML v1.0//EN
VERSION:2.0
CALSCALE:GREGORIAN
METHOD:PUBLISH
X-WR-CALNAME:Cartografía y web o por qué tus mapas están MAL
X-WR-TIMEZONE:Europe/Madrid
X-WR-CALDESC:Cartografía y web o por qué tus mapas están MAL
BEGIN:VEVENT
DTSTART:20131218T180000Z
DTEND:20131218T200000Z
DTSTAMP:20131218T180000Z
UID:89dc8c367e5f7071e59417c369f73ddf@betabeers.com
CREATED:20131202T105202Z
DESCRIPTION:https://betabeers.com/event/cartografia-web-o-por-que-tus-mapas
-estan-mal-1417/
URL:https://betabeers.com/event/cartografia-web-o-por-que-tus-mapas-estan-m
al-1417/
LAST-MODIFIED:20131202T105202Z
LOCATION:Francisco Martínez n. 2 bajo La Cueva (Benimaclet), Valencia, Esp
aña
SEQUENCE:0
STATUS:CONFIRMED
SUMMARY:Cartografía y web o por qué tus mapas están MAL
TRANSP:OPAQUE
END:VEVENT
END:VCALENDAR
