BEGIN:VCALENDAR
PRODID:-//hacksw/handcal//NONSGML v1.0//EN
VERSION:2.0
CALSCALE:GREGORIAN
METHOD:PUBLISH
X-WR-CALNAME:The Barcelona Python Meetup Group - Informal Python Meetup
X-WR-TIMEZONE:Europe/Madrid
X-WR-CALDESC:The Barcelona Python Meetup Group - Informal Python Meetup
BEGIN:VEVENT
DTSTART:20131212T180000Z
DTEND:20131212T190000Z
DTSTAMP:20131212T180000Z
UID:6d3c7cdd848011c61629348aab0acdc0@betabeers.com
CREATED:20131130T230011Z
DESCRIPTION:https://betabeers.com/event/the-barcelona-python-meetup-group-i
nformal-python-meetup-12-diciembre-2013-1400/
URL:https://betabeers.com/event/the-barcelona-python-meetup-group-informal-
python-meetup-12-diciembre-2013-1400/
LAST-MODIFIED:20131130T230011Z
LOCATION:-, Barcelona, España
SEQUENCE:0
STATUS:CONFIRMED
SUMMARY:The Barcelona Python Meetup Group - Informal Python Meetup
TRANSP:OPAQUE
END:VEVENT
END:VCALENDAR
