BEGIN:VCALENDAR
PRODID:-//hacksw/handcal//NONSGML v1.0//EN
VERSION:2.0
CALSCALE:GREGORIAN
METHOD:PUBLISH
X-WR-CALNAME:Málaga Python - Gestión de paquetes en Python con Poetry
X-WR-TIMEZONE:Europe/Madrid
X-WR-CALDESC:Málaga Python - Gestión de paquetes en Python con Poetry
BEGIN:VEVENT
DTSTART:20201029T183000Z
DTEND:20201029T193000Z
DTSTAMP:20201029T183000Z
UID:ce4bf2eb95e03a0cd36580a570f1df43@betabeers.com
CREATED:20201018T223552Z
DESCRIPTION:https://betabeers.com/event/malaga-python-gestion-paquetes-pyth
on-poetry-1-enero-1970-13872/
URL:https://betabeers.com/event/malaga-python-gestion-paquetes-python-poetr
y-1-enero-1970-13872/
LAST-MODIFIED:20201018T223552Z
LOCATION:Online event, Malaga, España
SEQUENCE:0
STATUS:CONFIRMED
SUMMARY:Málaga Python - Gestión de paquetes en Python con Poetry
TRANSP:OPAQUE
END:VEVENT
END:VCALENDAR
