BEGIN:VCALENDAR
PRODID:-//hacksw/handcal//NONSGML v1.0//EN
VERSION:2.0
CALSCALE:GREGORIAN
METHOD:PUBLISH
X-WR-CALNAME:First Tuesday Barcelona
X-WR-TIMEZONE:Europe/Madrid
X-WR-CALDESC:First Tuesday Barcelona
BEGIN:VEVENT
DTSTART:20120306T183000Z
DTEND:20120306T193000Z
DTSTAMP:20120306T183000Z
UID:6316afe6532972780c82807f1012f0fc@betabeers.com
CREATED:20120225T195554Z
DESCRIPTION:https://betabeers.com/event/first-tuesday-barcelona-6-marzo-201
2-136/
URL:https://betabeers.com/event/first-tuesday-barcelona-6-marzo-2012-136/
LAST-MODIFIED:20120225T195554Z
LOCATION:Hyde Club, passatge Domingo, 3, Barcelona, España, Barcelona, Esp
aña
SEQUENCE:0
STATUS:CONFIRMED
SUMMARY:First Tuesday Barcelona
TRANSP:OPAQUE
END:VEVENT
END:VCALENDAR
