BEGIN:VCALENDAR
PRODID:-//hacksw/handcal//NONSGML v1.0//EN
VERSION:2.0
CALSCALE:GREGORIAN
METHOD:PUBLISH
X-WR-CALNAME:Smartcities - Internet of Things
X-WR-TIMEZONE:Europe/Madrid
X-WR-CALDESC:Smartcities - Internet of Things
BEGIN:VEVENT
DTSTART:20131031T090000Z
DTEND:20131031T190000Z
DTSTAMP:20131031T090000Z
UID:5b2a76842a735b4291eeec75842c6d0c@betabeers.com
CREATED:20131029T162159Z
DESCRIPTION:https://betabeers.com/event/smartcities-internet-things-1334/
URL:https://betabeers.com/event/smartcities-internet-things-1334/
LAST-MODIFIED:20131029T162159Z
LOCATION:Mobile World Centre, Barcelona, España
SEQUENCE:0
STATUS:CONFIRMED
SUMMARY:Smartcities - Internet of Things
TRANSP:OPAQUE
END:VEVENT
END:VCALENDAR
