BEGIN:VCALENDAR
PRODID:-//hacksw/handcal//NONSGML v1.0//EN
VERSION:2.0
CALSCALE:GREGORIAN
METHOD:PUBLISH
X-WR-CALNAME:Jornada de Deducciones fiscales en I+D+I
X-WR-TIMEZONE:Europe/Madrid
X-WR-CALDESC:Jornada de Deducciones fiscales en I+D+I
BEGIN:VEVENT
DTSTART:20131107T090000Z
DTEND:20131107T110000Z
DTSTAMP:20131107T090000Z
UID:02a7fe5f589fadafc567a87f0aa77759@betabeers.com
CREATED:20131029T092336Z
DESCRIPTION:https://betabeers.com/event/jornada-deducciones-fiscales-i-d-i-
7-noviembre-2013-1332/
URL:https://betabeers.com/event/jornada-deducciones-fiscales-i-d-i-7-noviem
bre-2013-1332/
LAST-MODIFIED:20131029T092336Z
LOCATION:Calle Quatre Camins 30, edificio Sant Jaume Hilari, sala Paranimf,
 Barcelona, España
SEQUENCE:0
STATUS:CONFIRMED
SUMMARY:Jornada de Deducciones fiscales en I+D+I
TRANSP:OPAQUE
END:VEVENT
END:VCALENDAR
