BEGIN:VCALENDAR
PRODID:-//hacksw/handcal//NONSGML v1.0//EN
VERSION:2.0
CALSCALE:GREGORIAN
METHOD:PUBLISH
X-WR-CALNAME:Cómo proteger tu idea tecnológica
X-WR-TIMEZONE:Europe/Madrid
X-WR-CALDESC:Cómo proteger tu idea tecnológica
BEGIN:VEVENT
DTSTART:20131112T090000Z
DTEND:20131112T110000Z
DTSTAMP:20131112T090000Z
UID:4a207bd0908bd052fedc1b2ea70d0313@betabeers.com
CREATED:20131029T092113Z
DESCRIPTION:https://betabeers.com/event/como-proteger-tu-idea-tecnologica-1
331/
URL:https://betabeers.com/event/como-proteger-tu-idea-tecnologica-1331/
LAST-MODIFIED:20131029T092113Z
LOCATION:Carrer Sant Joan de La Salle 42, Edifici Sant Miquel Febres aula M
FS01, Barcelona, España
SEQUENCE:0
STATUS:CONFIRMED
SUMMARY:Cómo proteger tu idea tecnológica
TRANSP:OPAQUE
END:VEVENT
END:VCALENDAR
